BEGIN:VCALENDAR
PRODID:-//http://statistik.d-u-v.org//PHP ultracalendar//EN
VERSION:2.0
METHOD:PUBLISH
BEGIN:VEVENT
DTSTAMP:20260419T192336
CREATED:20120524T232930
UID:1776626616.0.41987200-14458@statistik.d-u-v.org
SUMMARY:Susitna 100 Mile
DESCRIPTION: Susitna 100 Mile\n
  Rita Wade\n
  susitna100[at]attalascom.net
DTSTART:20130216T000000
DTEND:20130218T235900
LOCATION:Anchorage, AK\, USA
URL:http://www.susitna100.com/index.php
CATEGORIES:Ultramarathon
CONTACT:Rita Wade
CLASS:PUBLIC
PRIORITY:5
TRANSP:OPAQUE
END:VEVENT
END:VCALENDAR
