BEGIN:VCALENDAR
PRODID:-//http://statistik.d-u-v.org//PHP ultracalendar//EN
VERSION:2.0
METHOD:PUBLISH
BEGIN:VEVENT
DTSTAMP:20260419T200546
CREATED:20071217T000000
UID:1776629146.0.59975100-1426@statistik.d-u-v.org
SUMMARY:Nove Colli Running
DESCRIPTION: Nove Colli Running\n
  \n
  mario.castagnoli[at]libero.it
DTSTART:20080517T000000
DTEND:20080518T235900
LOCATION:Cesenatico (FC)\, ITA
URL:http://www.novecollirunning.it
CATEGORIES:Ultramarathon
CONTACT:
CLASS:PUBLIC
PRIORITY:5
TRANSP:OPAQUE
END:VEVENT
END:VCALENDAR
