BEGIN:VCALENDAR
PRODID:-//http://statistik.d-u-v.org//PHP ultracalendar//EN
VERSION:2.0
METHOD:PUBLISH
BEGIN:VEVENT
DTSTAMP:20260423T020321
CREATED:20120417T173852
UID:1776909801.0.81666800-14148@statistik.d-u-v.org
SUMMARY:100 km of Rotorua road race
DESCRIPTION: 100 km of Rotorua road race\n
  \n
  
DTSTART:19980905T000000
DTEND:00000000T235900
LOCATION:Rotorua\, NZL
URL:
CATEGORIES:Ultramarathon
CONTACT:
CLASS:PUBLIC
PRIORITY:5
TRANSP:OPAQUE
END:VEVENT
END:VCALENDAR
