BEGIN:VCALENDAR
PRODID:-//http://statistik.d-u-v.org//PHP ultracalendar//EN
VERSION:2.0
METHOD:PUBLISH
BEGIN:VEVENT
DTSTAMP:20260419T164640
CREATED:20120406T202907
UID:1776617200.0.32055300-14007@statistik.d-u-v.org
SUMMARY:Sri Chinmoy 24 Hour Festival of Running
DESCRIPTION: Sri Chinmoy 24 Hour Festival of Running\n
  \n
  
DTSTART:19891028T070000
DTEND:19891029T070000
LOCATION:Adelaide, SA\, AUS
URL:
CATEGORIES:Ultramarathon
CONTACT:
CLASS:PUBLIC
PRIORITY:5
TRANSP:OPAQUE
END:VEVENT
END:VCALENDAR
