BEGIN:VCALENDAR
PRODID:-//http://statistik.d-u-v.org//PHP ultracalendar//EN
VERSION:2.0
METHOD:PUBLISH
BEGIN:VEVENT
DTSTAMP:20260419T164346
CREATED:20120406T180858
UID:1776617026.0.98273500-13993@statistik.d-u-v.org
SUMMARY:Sri Chinmoy 24 Hour Festival of Running - 50mi Split
DESCRIPTION: Sri Chinmoy 24 Hour Festival of Running - 50mi Split\n
  \n
  
DTSTART:19951021T000000
DTEND:19951022T235900
LOCATION:Adelaide, SA\, AUS
URL:
CATEGORIES:Ultramarathon
CONTACT:
CLASS:PUBLIC
PRIORITY:5
TRANSP:OPAQUE
END:VEVENT
END:VCALENDAR
