BEGIN:VCALENDAR
PRODID:-//http://statistik.d-u-v.org//PHP ultracalendar//EN
VERSION:2.0
METHOD:PUBLISH
BEGIN:VEVENT
DTSTAMP:20260423T041209
CREATED:20120401T161919
UID:1776917529.0.50900600-13920@statistik.d-u-v.org
SUMMARY:Table Rock 50 km Ultra
DESCRIPTION: Table Rock 50 km Ultra\n
  Race Director Mark Rostan\n
  markrostan[at]valdese.com
DTSTART:20121208T070000
DTEND:00000000T235900
LOCATION:Morganton, NC\, USA
URL:http://www.tablerockultras.com/
CATEGORIES:Ultramarathon
CONTACT:Race Director Mark Rostan
CLASS:PUBLIC
PRIORITY:5
TRANSP:OPAQUE
END:VEVENT
END:VCALENDAR
