BEGIN:VCALENDAR
PRODID:-//http://statistik.d-u-v.org//PHP ultracalendar//EN
VERSION:2.0
METHOD:PUBLISH
BEGIN:VEVENT
DTSTAMP:20260423T070121
CREATED:20120323T153928
UID:1776927681.0.86999600-13829@statistik.d-u-v.org
SUMMARY:Haliburton Forest 100 Mile Race
DESCRIPTION: Haliburton Forest 100 Mile Race\n
  Helen Malmberg\n
  helen.malmberg[at]dhltd.com
DTSTART:20120908T000000
DTEND:20120909T235900
LOCATION:West Guilford, ON\, CAN
URL:http://www.ouser.org/races//hali.htm
CATEGORIES:Ultramarathon
CONTACT:Helen Malmberg
CLASS:PUBLIC
PRIORITY:5
TRANSP:OPAQUE
END:VEVENT
END:VCALENDAR
