BEGIN:VCALENDAR
PRODID:-//http://statistik.d-u-v.org//PHP ultracalendar//EN
VERSION:2.0
METHOD:PUBLISH
BEGIN:VEVENT
DTSTAMP:20260423T041110
CREATED:20190407T103451
UID:1776917470.0.25644500-13770@statistik.d-u-v.org
SUMMARY:Fonta Flora 50k
DESCRIPTION: Fonta Flora 50k\n
  \n
  
DTSTART:20190323T090000
DTEND:00000000T235900
LOCATION:Nebo, NC\, USA
URL:http://www.tanawhaadventures.com/fontaflora
CATEGORIES:Ultramarathon
CONTACT:
CLASS:PUBLIC
PRIORITY:5
TRANSP:OPAQUE
END:VEVENT
END:VCALENDAR
