BEGIN:VCALENDAR
PRODID:-//http://statistik.d-u-v.org//PHP ultracalendar//EN
VERSION:2.0
METHOD:PUBLISH
BEGIN:VEVENT
DTSTAMP:20260419T195051
CREATED:20071217T000000
UID:1776628251.0.98568000-1360@statistik.d-u-v.org
SUMMARY:Thames Meander
DESCRIPTION: Thames Meander\n
  Anke Molkenthin\n
  anke.molkenthin[at]laufenderleben.de; contact[at]thamesmeander.com
DTSTART:20080216T000000
DTEND:00000000T235900
LOCATION:Reading\, GBR
URL:http://www.thamesmeander.com/
CATEGORIES:Ultramarathon
CONTACT:Anke Molkenthin
CLASS:PUBLIC
PRIORITY:5
TRANSP:OPAQUE
END:VEVENT
END:VCALENDAR
