BEGIN:VCALENDAR
PRODID:-//http://statistik.d-u-v.org//PHP ultracalendar//EN
VERSION:2.0
METHOD:PUBLISH
BEGIN:VEVENT
DTSTAMP:20260421T190139
CREATED:20120216T150533
UID:1776798099.0.70580500-13514@statistik.d-u-v.org
SUMMARY:Altmühltal-Panoramaweg Ultra Trail (APUT) 110/200 km
DESCRIPTION: Altmühltal-Panoramaweg Ultra Trail (APUT) 110/200 km\n
  Jörg Domanwsoki\n
  info[at]panorama-ultra.de
DTSTART:20121006T090000
DTEND:20121007T170000
LOCATION:Gunzenhausen\, GER
URL:http://panorama-ultra.de
CATEGORIES:Ultramarathon
CONTACT:Jörg Domanwsoki
CLASS:PUBLIC
PRIORITY:5
TRANSP:OPAQUE
END:VEVENT
END:VCALENDAR
