BEGIN:VCALENDAR
PRODID:-//http://statistik.d-u-v.org//PHP ultracalendar//EN
VERSION:2.0
METHOD:PUBLISH
BEGIN:VEVENT
DTSTAMP:20260420T024521
CREATED:20120216T155900
UID:1776653121.0.19855000-13509@statistik.d-u-v.org
SUMMARY:Beast of Burden Summer 100 Miler
DESCRIPTION: Beast of Burden Summer 100 Miler\n
  Race Director: Sam Pasceri\n
  bobtimkey[at]yahoo.com
DTSTART:20120818T100000
DTEND:20120819T160000
LOCATION:Lockport, NY\, USA
URL:http://summer100.com/
CATEGORIES:Ultramarathon
CONTACT:Race Director: Sam Pasceri
CLASS:PUBLIC
PRIORITY:5
TRANSP:OPAQUE
END:VEVENT
END:VCALENDAR
