BEGIN:VCALENDAR
PRODID:-//http://statistik.d-u-v.org//PHP ultracalendar//EN
VERSION:2.0
METHOD:PUBLISH
BEGIN:VEVENT
DTSTAMP:20260423T050459
CREATED:20120216T155900
UID:1776920699.0.08572200-13495@statistik.d-u-v.org
SUMMARY:North Coast 100 Mile
DESCRIPTION: North Coast 100 Mile\n
  \n
  
DTSTART:19850518T000000
DTEND:19850519T235900
LOCATION:Buffalo, NY\, USA
URL:
CATEGORIES:Ultramarathon
CONTACT:
CLASS:PUBLIC
PRIORITY:5
TRANSP:OPAQUE
END:VEVENT
END:VCALENDAR
