BEGIN:VCALENDAR
PRODID:-//http://statistik.d-u-v.org//PHP ultracalendar//EN
VERSION:2.0
METHOD:PUBLISH
BEGIN:VEVENT
DTSTAMP:20260419T200534
CREATED:20120215T165158
UID:1776629134.0.79818700-13468@statistik.d-u-v.org
SUMMARY:BUS 6-Hour Run
DESCRIPTION: BUS 6-Hour Run\n
  \n
  rich1239[at]nyc.rr.com
DTSTART:20120331T080000
DTEND:00000000T235900
LOCATION:New York, NY\, USA
URL:http://www.newyorkultrarunning.org/2012_BUS6_NYUR3.htm
CATEGORIES:Ultramarathon
CONTACT:
CLASS:PUBLIC
PRIORITY:5
TRANSP:OPAQUE
END:VEVENT
END:VCALENDAR
