BEGIN:VCALENDAR
PRODID:-//http://statistik.d-u-v.org//PHP ultracalendar//EN
VERSION:2.0
METHOD:PUBLISH
BEGIN:VEVENT
DTSTAMP:20260421T221641
CREATED:20080728T000000
UID:1776809801.0.20068200-1345@statistik.d-u-v.org
SUMMARY:Barry 40 Mile Track Race
DESCRIPTION: Barry 40 Mile Track Race\n
  Mick McGeoch\n
  
DTSTART:20080309T000000
DTEND:00000000T235900
LOCATION:Barry\, GBR
URL:http://www.lescroupiersrunningclub.org.uk/barry40/
CATEGORIES:Ultramarathon
CONTACT:Mick McGeoch
CLASS:PUBLIC
PRIORITY:5
TRANSP:OPAQUE
END:VEVENT
END:VCALENDAR
