BEGIN:VCALENDAR
PRODID:-//http://statistik.d-u-v.org//PHP ultracalendar//EN
VERSION:2.0
METHOD:PUBLISH
BEGIN:VEVENT
DTSTAMP:20260423T023954
CREATED:20120207T171116
UID:1776911994.0.38732300-13349@statistik.d-u-v.org
SUMMARY:Withlacoochee Rails to Trails 100 km Run
DESCRIPTION: Withlacoochee Rails to Trails 100 km Run\n
  Race Director Miles Krier\n
  
DTSTART:20020216T000000
DTEND:00000000T235900
LOCATION:Brooksville, FL\, USA
URL:http://railstotrailsonline.com/
CATEGORIES:Ultramarathon
CONTACT:Race Director Miles Krier
CLASS:PUBLIC
PRIORITY:5
TRANSP:OPAQUE
END:VEVENT
END:VCALENDAR
