BEGIN:VCALENDAR
PRODID:-//http://statistik.d-u-v.org//PHP ultracalendar//EN
VERSION:2.0
METHOD:PUBLISH
BEGIN:VEVENT
DTSTAMP:20260419T211247
CREATED:20120206T165708
UID:1776633167.0.93360000-13298@statistik.d-u-v.org
SUMMARY:Défi de l'Oisans
DESCRIPTION: Défi de l'Oisans\n
  Cyril Bauland\n
  cyril.smag[at]yahoo.fr
DTSTART:20120722T000000
DTEND:20120727T235900
LOCATION:Les-Deux-Alpes\, FRA
URL:http://defioisans.over-blog.com/
CATEGORIES:Ultramarathon
CONTACT:Cyril Bauland
CLASS:PUBLIC
PRIORITY:5
TRANSP:OPAQUE
END:VEVENT
END:VCALENDAR
