BEGIN:VCALENDAR
PRODID:-//http://statistik.d-u-v.org//PHP ultracalendar//EN
VERSION:2.0
METHOD:PUBLISH
BEGIN:VEVENT
DTSTAMP:20260419T185849
CREATED:20120129T145128
UID:1776625129.0.44330900-13144@statistik.d-u-v.org
SUMMARY:3 Days at the Fair 6 Hour Race
DESCRIPTION: 3 Days at the Fair 6 Hour Race\n
  \n
  
DTSTART:20120512T180000
DTEND:00000000T235900
LOCATION:Augusta, NJ\, USA
URL:http://sites.google.com/site/xxctrailseries/fair
CATEGORIES:Ultramarathon
CONTACT:
CLASS:PUBLIC
PRIORITY:5
TRANSP:OPAQUE
END:VEVENT
END:VCALENDAR
