BEGIN:VCALENDAR
PRODID:-//http://statistik.d-u-v.org//PHP ultracalendar//EN
VERSION:2.0
METHOD:PUBLISH
BEGIN:VEVENT
DTSTAMP:20260420T035223
CREATED:20120126T175433
UID:1776657143.0.66459600-13116@statistik.d-u-v.org
SUMMARY:Katcina Mosa 100K Mountain Run
DESCRIPTION: Katcina Mosa 100K Mountain Run\n
  John Bozung\n
  jbozung[at]aol.com
DTSTART:20120804T000000
DTEND:00000000T235900
LOCATION:Provo, UT\, USA
URL:http://www.squawpeak50.com/100kmstr.htm
CATEGORIES:Ultramarathon
CONTACT:John Bozung
CLASS:PUBLIC
PRIORITY:5
TRANSP:OPAQUE
END:VEVENT
END:VCALENDAR
