BEGIN:VCALENDAR
PRODID:-//http://statistik.d-u-v.org//PHP ultracalendar//EN
VERSION:2.0
METHOD:PUBLISH
BEGIN:VEVENT
DTSTAMP:20260420T120339
CREATED:20260419T160036
UID:1776686619.0.21442300-130878@statistik.d-u-v.org
SUMMARY:Death by 5k Memphis
DESCRIPTION: Death by 5k Memphis\n
  \n
  
DTSTART:20270410T080000
DTEND:00000000T235900
LOCATION:Memphis, TN\, USA
URL:https://ultrasignup.com/register.aspx?did=138256
CATEGORIES:Ultramarathon
CONTACT:
CLASS:PUBLIC
PRIORITY:5
TRANSP:OPAQUE
END:VEVENT
END:VCALENDAR
