BEGIN:VCALENDAR
PRODID:-//http://statistik.d-u-v.org//PHP ultracalendar//EN
VERSION:2.0
METHOD:PUBLISH
BEGIN:VEVENT
DTSTAMP:20260419T213244
CREATED:20260415T091522
UID:1776634364.0.11529100-130822@statistik.d-u-v.org
SUMMARY:The Fort Ultra - 100km Udaipur Ultra
DESCRIPTION: The Fort Ultra - 100km Udaipur Ultra\n
  \n
  themarustorm[at]gmail.com
DTSTART:20260301T000000
DTEND:00000000T235900
LOCATION:Udaipur, Rajasthan\, IND
URL:https://www.marustormsquad.com/
CATEGORIES:Ultramarathon
CONTACT:
CLASS:PUBLIC
PRIORITY:5
TRANSP:OPAQUE
END:VEVENT
END:VCALENDAR
