BEGIN:VCALENDAR
PRODID:-//http://statistik.d-u-v.org//PHP ultracalendar//EN
VERSION:2.0
METHOD:PUBLISH
BEGIN:VEVENT
DTSTAMP:20260421T104231
CREATED:20260412T153727
UID:1776768151.0.38275100-130815@statistik.d-u-v.org
SUMMARY:Hamar Backyard Ultra 50M
DESCRIPTION: Hamar Backyard Ultra 50M\n
  Pål-Erik Langøigjelten\n
  pel[at]langoigjelten.com
DTSTART:20251011T080000
DTEND:00000000T235900
LOCATION:Hamar\, NOR
URL:https://www.hamarloperne.com/HBU50M?fbclid=IwZXh0bgNhZW0CMTAAAR0cXdyEQ0fxSeCssgL0HRU44LdZxg_sWWFsPs5krr_wH84KiQKGjZnGTwk_aem_Ckz2A5s_cd-OeI6bOMMUew
CATEGORIES:Ultramarathon
CONTACT:Pål-Erik Langøigjelten
CLASS:PUBLIC
PRIORITY:5
TRANSP:OPAQUE
END:VEVENT
END:VCALENDAR
