BEGIN:VCALENDAR
PRODID:-//http://statistik.d-u-v.org//PHP ultracalendar//EN
VERSION:2.0
METHOD:PUBLISH
BEGIN:VEVENT
DTSTAMP:20260419T185500
CREATED:20260412T170801
UID:1776624900.0.68506200-130805@statistik.d-u-v.org
SUMMARY:Fýri Trail by Salomon
DESCRIPTION: Fýri Trail by Salomon\n
  \n
  fyritrail[at]fyriresort.com
DTSTART:20250920T060000
DTEND:00000000T235900
LOCATION:Hemsedal\, NOR
URL:https://fyriresort.com/fyri-trail-by-salomon/
CATEGORIES:Ultramarathon
CONTACT:
CLASS:PUBLIC
PRIORITY:5
TRANSP:OPAQUE
END:VEVENT
END:VCALENDAR
