BEGIN:VCALENDAR
PRODID:-//http://statistik.d-u-v.org//PHP ultracalendar//EN
VERSION:2.0
METHOD:PUBLISH
BEGIN:VEVENT
DTSTAMP:20260419T185515
CREATED:20260414T144233
UID:1776624915.0.09587100-130778@statistik.d-u-v.org
SUMMARY:Manila To Baler 155-Mile Endurance Run (reverse)
DESCRIPTION: Manila To Baler 155-Mile Endurance Run (reverse)\n
  Mark Johannes Cua\n
  ecprunevent[at]gmail.com
DTSTART:20260612T020000
DTEND:20260614T060000
LOCATION:Baler, Aurora\, PHI
URL:https://www.facebook.com/events/1485223538279481/?ti=cl
CATEGORIES:Ultramarathon
CONTACT:Mark Johannes Cua
CLASS:PUBLIC
PRIORITY:5
TRANSP:OPAQUE
END:VEVENT
END:VCALENDAR
