BEGIN:VCALENDAR
PRODID:-//http://statistik.d-u-v.org//PHP ultracalendar//EN
VERSION:2.0
METHOD:PUBLISH
BEGIN:VEVENT
DTSTAMP:20260419T152943
CREATED:20260414T144402
UID:1776612583.0.00922900-130777@statistik.d-u-v.org
SUMMARY:Asta Maries 24 timers løb
DESCRIPTION: Asta Maries 24 timers løb\n
  Stig Mosegaard Madsen\n
  am24[at]alot.nu
DTSTART:20260912T090000
DTEND:20260913T090000
LOCATION:Copenhagen S\, DEN
URL:http://cph-ultra.dk
CATEGORIES:Ultramarathon
CONTACT:Stig Mosegaard Madsen
CLASS:PUBLIC
PRIORITY:5
TRANSP:OPAQUE
END:VEVENT
END:VCALENDAR
