BEGIN:VCALENDAR
PRODID:-//http://statistik.d-u-v.org//PHP ultracalendar//EN
VERSION:2.0
METHOD:PUBLISH
BEGIN:VEVENT
DTSTAMP:20260420T120340
CREATED:20260407T105936
UID:1776686620.0.39788100-130757@statistik.d-u-v.org
SUMMARY:Les 6 heures de Montcul
DESCRIPTION: Les 6 heures de Montcul\n
  Lionel Ligonnet\n
  rccs69124[at]gmail.com
DTSTART:20260411T120000
DTEND:20260412T120000
LOCATION:Colombier-Saugnieu\, FRA
URL:https://www.facebook.com/profile.php?id=61579735589964#
CATEGORIES:Ultramarathon
CONTACT:Lionel Ligonnet
CLASS:PUBLIC
PRIORITY:5
TRANSP:OPAQUE
END:VEVENT
END:VCALENDAR
