BEGIN:VCALENDAR
PRODID:-//http://statistik.d-u-v.org//PHP ultracalendar//EN
VERSION:2.0
METHOD:PUBLISH
BEGIN:VEVENT
DTSTAMP:20260423T011028
CREATED:20260412T183641
UID:1776906628.0.93177400-130720@statistik.d-u-v.org
SUMMARY:Backyard Tromsø
DESCRIPTION: Backyard Tromsø\n
  \n
  info[at]backyard.no
DTSTART:20250809T000000
DTEND:00000000T235900
LOCATION:Tromsø\, NOR
URL:https://www.backyardultra.no/tromso/
CATEGORIES:Ultramarathon
CONTACT:
CLASS:PUBLIC
PRIORITY:5
TRANSP:OPAQUE
END:VEVENT
END:VCALENDAR
