BEGIN:VCALENDAR
PRODID:-//http://statistik.d-u-v.org//PHP ultracalendar//EN
VERSION:2.0
METHOD:PUBLISH
BEGIN:VEVENT
DTSTAMP:20260419T185515
CREATED:20260411T230113
UID:1776624915.0.18823300-130706@statistik.d-u-v.org
SUMMARY:American Bottoms 113mi
DESCRIPTION: American Bottoms 113mi\n
  David Hartrum\n
  americanbottoms100[at]gmail.com
DTSTART:20270320T060000
DTEND:20270321T160000
LOCATION:Columbia, IL\, USA
URL:https://ultrasignup.com/register.aspx?did=138171
CATEGORIES:Ultramarathon
CONTACT:David Hartrum
CLASS:PUBLIC
PRIORITY:5
TRANSP:OPAQUE
END:VEVENT
END:VCALENDAR
