BEGIN:VCALENDAR
PRODID:-//http://statistik.d-u-v.org//PHP ultracalendar//EN
VERSION:2.0
METHOD:PUBLISH
BEGIN:VEVENT
DTSTAMP:20260419T185500
CREATED:20260326T120547
UID:1776624900.0.41179900-130627@statistik.d-u-v.org
SUMMARY:Hagemann's Rundbaneløp
DESCRIPTION: Hagemann's Rundbaneløp\n
  Einar Hagemann\n
  einarhagemann[at]msn.com
DTSTART:20261003T100000
DTEND:00000000T235900
LOCATION:Svelvik\, NOR
URL:https://www.facebook.com/events/s/hagemanns-rundbanel%C3%B8p-2026/2399585000435524/?rdid=y7ixKoAgyia07EnI&share_url=https%3A%2F%2Fwww.facebook.com%2Fshare%2F1D7LD3sgLp%2F#
CATEGORIES:Ultramarathon
CONTACT:Einar Hagemann
CLASS:PUBLIC
PRIORITY:5
TRANSP:OPAQUE
END:VEVENT
END:VCALENDAR
