BEGIN:VCALENDAR
PRODID:-//http://statistik.d-u-v.org//PHP ultracalendar//EN
VERSION:2.0
METHOD:PUBLISH
BEGIN:VEVENT
DTSTAMP:20260419T185544
CREATED:20260326T125158
UID:1776624944.0.63788500-130622@statistik.d-u-v.org
SUMMARY:Krukes Ultra-Trail Challenge, Last One Standing
DESCRIPTION: Krukes Ultra-Trail Challenge, Last One Standing\n
  Torgeir Kruke\n
  torgeir.kruke[at]gmail.com
DTSTART:20261010T100000
DTEND:00000000T235900
LOCATION:Saksvik\, NOR
URL:https://www.krultra.no
CATEGORIES:Ultramarathon
CONTACT:Torgeir Kruke
CLASS:PUBLIC
PRIORITY:5
TRANSP:OPAQUE
END:VEVENT
END:VCALENDAR
