BEGIN:VCALENDAR
PRODID:-//http://statistik.d-u-v.org//PHP ultracalendar//EN
VERSION:2.0
METHOD:PUBLISH
BEGIN:VEVENT
DTSTAMP:20260420T040228
CREATED:20260327T142521
UID:1776657748.0.21980300-130606@statistik.d-u-v.org
SUMMARY:Desafio das Águas 12 horas
DESCRIPTION: Desafio das Águas 12 horas\n
  \n
  contato[at]sports360.com.br
DTSTART:20260328T190000
DTEND:00000000T235900
LOCATION:Pinhais, PR\, BRA
URL:https://sports360.com.br/evento/desafio-das-aguas-ultramaratona-12-horas/
CATEGORIES:Ultramarathon
CONTACT:
CLASS:PUBLIC
PRIORITY:5
TRANSP:OPAQUE
END:VEVENT
END:VCALENDAR
