BEGIN:VCALENDAR
PRODID:-//http://statistik.d-u-v.org//PHP ultracalendar//EN
VERSION:2.0
METHOD:PUBLISH
BEGIN:VEVENT
DTSTAMP:20260420T144549
CREATED:20260327T142712
UID:1776696349.0.77288300-130604@statistik.d-u-v.org
SUMMARY:Desafio das Águas 100km
DESCRIPTION: Desafio das Águas 100km\n
  \n
  contato[at]sports360.com.br
DTSTART:20260328T183000
DTEND:00000000T235900
LOCATION:Pinhais, PR\, BRA
URL:https://sports360.com.br/evento/desafio-das-aguas-ultramaratona-12-horas/
CATEGORIES:Ultramarathon
CONTACT:
CLASS:PUBLIC
PRIORITY:5
TRANSP:OPAQUE
END:VEVENT
END:VCALENDAR
