BEGIN:VCALENDAR
PRODID:-//http://statistik.d-u-v.org//PHP ultracalendar//EN
VERSION:2.0
METHOD:PUBLISH
BEGIN:VEVENT
DTSTAMP:20260419T185522
CREATED:20260327T150547
UID:1776624922.0.84361400-130595@statistik.d-u-v.org
SUMMARY:5º Ultra 100km BA-052 85km
DESCRIPTION: 5º Ultra 100km BA-052 85km\n
  Izaias Gonçalves e Magno Motta\n
  
DTSTART:20260606T040000
DTEND:00000000T235900
LOCATION:Novo Mundo, BA\, BRA
URL:https://www.races.com.br/ultra-ba-052-edicao-2024
CATEGORIES:Ultramarathon
CONTACT:Izaias Gonçalves e Magno Motta
CLASS:PUBLIC
PRIORITY:5
TRANSP:OPAQUE
END:VEVENT
END:VCALENDAR
