BEGIN:VCALENDAR
PRODID:-//http://statistik.d-u-v.org//PHP ultracalendar//EN
VERSION:2.0
METHOD:PUBLISH
BEGIN:VEVENT
DTSTAMP:20260419T185506
CREATED:20260407T235407
UID:1776624906.0.24317400-130555@statistik.d-u-v.org
SUMMARY:Vernal Equinox 12 Hour Race Ruckers
DESCRIPTION: Vernal Equinox 12 Hour Race Ruckers\n
  \n
  empowerultras[at]gmail.com
DTSTART:20270327T080000
DTEND:00000000T235900
LOCATION:Batavia, OH\, USA
URL:https://ultrasignup.com/register.aspx?did=138079
CATEGORIES:Ultramarathon
CONTACT:
CLASS:PUBLIC
PRIORITY:5
TRANSP:OPAQUE
END:VEVENT
END:VCALENDAR
