BEGIN:VCALENDAR
PRODID:-//http://statistik.d-u-v.org//PHP ultracalendar//EN
VERSION:2.0
METHOD:PUBLISH
BEGIN:VEVENT
DTSTAMP:20260419T185459
CREATED:20260404T183531
UID:1776624899.0.86643100-130505@statistik.d-u-v.org
SUMMARY:Boundiful 100 Mile Endurance Run
DESCRIPTION: Boundiful 100 Mile Endurance Run\n
  Race Directors Jean Ho and Lambert Timmermans\n
  jean[at]trailrunners.org; lt[at]trailrunners.org
DTSTART:20261128T070000
DTEND:20261129T070000
LOCATION:Hemet, CA\, USA
URL:https://ultrasignup.com/register.aspx?did=137974
CATEGORIES:Ultramarathon
CONTACT:Race Directors Jean Ho and Lambert Timmermans
CLASS:PUBLIC
PRIORITY:5
TRANSP:OPAQUE
END:VEVENT
END:VCALENDAR
