BEGIN:VCALENDAR
PRODID:-//http://statistik.d-u-v.org//PHP ultracalendar//EN
VERSION:2.0
METHOD:PUBLISH
BEGIN:VEVENT
DTSTAMP:20260420T040233
CREATED:20260402T033358
UID:1776657753.0.68497600-130458@statistik.d-u-v.org
SUMMARY:Ultramaratona Peixe-Boi
DESCRIPTION: Ultramaratona Peixe-Boi\n
  \n
  dilamar.lamberty[at]gmail.com
DTSTART:20260307T050000
DTEND:00000000T235900
LOCATION:Brazil\, BRA
URL:https://www.race83.com.br/evento/4168/ultramaratona-peixe-boi-2026
CATEGORIES:Ultramarathon
CONTACT:
CLASS:PUBLIC
PRIORITY:5
TRANSP:OPAQUE
END:VEVENT
END:VCALENDAR
