BEGIN:VCALENDAR
PRODID:-//http://statistik.d-u-v.org//PHP ultracalendar//EN
VERSION:2.0
METHOD:PUBLISH
BEGIN:VEVENT
DTSTAMP:20260419T185514
CREATED:20260401T072114
UID:1776624914.0.45932700-130439@statistik.d-u-v.org
SUMMARY:The Bootlegger 100 Mile Trail
DESCRIPTION: The Bootlegger 100 Mile Trail\n
  \n
  
DTSTART:20270327T073000
DTEND:00000000T235900
LOCATION:Jackson, GA\, USA
URL:https://ultrasignup.com/register.aspx?did=137845
CATEGORIES:Ultramarathon
CONTACT:
CLASS:PUBLIC
PRIORITY:5
TRANSP:OPAQUE
END:VEVENT
END:VCALENDAR
