BEGIN:VCALENDAR
PRODID:-//http://statistik.d-u-v.org//PHP ultracalendar//EN
VERSION:2.0
METHOD:PUBLISH
BEGIN:VEVENT
DTSTAMP:20260419T185458
CREATED:20260329T234727
UID:1776624898.0.41010300-130393@statistik.d-u-v.org
SUMMARY:Grasslands 100 Mile Trail Run
DESCRIPTION: Grasslands 100 Mile Trail Run\n
  \n
  info@blazetrails.com 
DTSTART:20270320T060000
DTEND:20270321T235900
LOCATION:Decatur, TX\, USA
URL:https://ultrasignup.com/register.aspx?did=137639
CATEGORIES:Ultramarathon
CONTACT:
CLASS:PUBLIC
PRIORITY:5
TRANSP:OPAQUE
END:VEVENT
END:VCALENDAR
