BEGIN:VCALENDAR
PRODID:-//http://statistik.d-u-v.org//PHP ultracalendar//EN
VERSION:2.0
METHOD:PUBLISH
BEGIN:VEVENT
DTSTAMP:20260419T185453
CREATED:20260329T234603
UID:1776624893.0.46857900-130390@statistik.d-u-v.org
SUMMARY:Viper 200 mile
DESCRIPTION: Viper 200 mile\n
  James Boler\n
  mambatrailrunners[at]gmail.com
DTSTART:20270310T070000
DTEND:20270313T235900
LOCATION:Cordova, TN\, USA
URL:https://ultrasignup.com/register.aspx?did=137755
CATEGORIES:Ultramarathon
CONTACT:James Boler
CLASS:PUBLIC
PRIORITY:5
TRANSP:OPAQUE
END:VEVENT
END:VCALENDAR
