BEGIN:VCALENDAR
PRODID:-//http://statistik.d-u-v.org//PHP ultracalendar//EN
VERSION:2.0
METHOD:PUBLISH
BEGIN:VEVENT
DTSTAMP:20260419T185459
CREATED:20260329T234559
UID:1776624899.0.55206600-130389@statistik.d-u-v.org
SUMMARY:Viper 300 mile
DESCRIPTION: Viper 300 mile\n
  James Boler\n
  mambatrailrunners[at]gmail.com
DTSTART:20270308T070000
DTEND:20270313T235900
LOCATION:Cordova, TN\, USA
URL:https://ultrasignup.com/register.aspx?did=137755
CATEGORIES:Ultramarathon
CONTACT:James Boler
CLASS:PUBLIC
PRIORITY:5
TRANSP:OPAQUE
END:VEVENT
END:VCALENDAR
