BEGIN:VCALENDAR
PRODID:-//http://statistik.d-u-v.org//PHP ultracalendar//EN
VERSION:2.0
METHOD:PUBLISH
BEGIN:VEVENT
DTSTAMP:20260419T185535
CREATED:20260329T104202
UID:1776624935.0.44188500-130352@statistik.d-u-v.org
SUMMARY:Bocksten Vineyard Backyard Ultra
DESCRIPTION: Bocksten Vineyard Backyard Ultra\n
  Mattias Skärbäck\n
  info[at]bockstentrailrun.se
DTSTART:20260912T090000
DTEND:00000000T235900
LOCATION:Tvååker\, SWE
URL:http://www.bockstentrailrun.se
CATEGORIES:Ultramarathon
CONTACT:Mattias Skärbäck
CLASS:PUBLIC
PRIORITY:5
TRANSP:OPAQUE
END:VEVENT
END:VCALENDAR
