BEGIN:VCALENDAR
PRODID:-//http://statistik.d-u-v.org//PHP ultracalendar//EN
VERSION:2.0
METHOD:PUBLISH
BEGIN:VEVENT
DTSTAMP:20260419T185523
CREATED:20260327T135447
UID:1776624923.0.11584100-130347@statistik.d-u-v.org
SUMMARY:Epona 100 KM
DESCRIPTION: Epona 100 KM\n
  \n
  info[at]epona100.com
DTSTART:20260509T140000
DTEND:20260510T200000
LOCATION:Talgarth\, GBR
URL:https://www.epona100.com/
CATEGORIES:Ultramarathon
CONTACT:
CLASS:PUBLIC
PRIORITY:5
TRANSP:OPAQUE
END:VEVENT
END:VCALENDAR
