BEGIN:VCALENDAR
PRODID:-//http://statistik.d-u-v.org//PHP ultracalendar//EN
VERSION:2.0
METHOD:PUBLISH
BEGIN:VEVENT
DTSTAMP:20260419T185524
CREATED:20260324T112534
UID:1776624924.0.12226300-130253@statistik.d-u-v.org
SUMMARY:Peyton's Wild and Wacky 10x5Km Ultra
DESCRIPTION: Peyton's Wild and Wacky 10x5Km Ultra\n
  Race Director Noah Moore\n
  noah[at]mooreonrunning.com
DTSTART:20270313T080000
DTEND:00000000T235900
LOCATION:Charleston, SC\, USA
URL:https://ultrasignup.com/register.aspx?did=137617
CATEGORIES:Ultramarathon
CONTACT:Race Director Noah Moore
CLASS:PUBLIC
PRIORITY:5
TRANSP:OPAQUE
END:VEVENT
END:VCALENDAR
