BEGIN:VCALENDAR
PRODID:-//http://statistik.d-u-v.org//PHP ultracalendar//EN
VERSION:2.0
METHOD:PUBLISH
BEGIN:VEVENT
DTSTAMP:20260423T031146
CREATED:20260315T160247
UID:1776913906.0.34672600-129863@statistik.d-u-v.org
SUMMARY:Grandmaster Ultras 50 Mile Run
DESCRIPTION: Grandmaster Ultras 50 Mile Run\n
  \n
  
DTSTART:20260228T080000
DTEND:00000000T235900
LOCATION:Mesquite, NV\, USA
URL:https://grandmasterultras.com/
CATEGORIES:Ultramarathon
CONTACT:
CLASS:PUBLIC
PRIORITY:5
TRANSP:OPAQUE
END:VEVENT
END:VCALENDAR
