BEGIN:VCALENDAR
PRODID:-//http://statistik.d-u-v.org//PHP ultracalendar//EN
VERSION:2.0
METHOD:PUBLISH
BEGIN:VEVENT
DTSTAMP:20260425T105827
CREATED:20260307T001739
UID:1777114707.0.53868300-129694@statistik.d-u-v.org
SUMMARY:Houffatrail 63km
DESCRIPTION: Houffatrail 63km\n
  \n
  info[at]xtrails.eu
DTSTART:20260124T090000
DTEND:00000000T235900
LOCATION:Houffalize\, BEL
URL:https://passionforsports.eu/en-houffatrail?count=1
CATEGORIES:Ultramarathon
CONTACT:
CLASS:PUBLIC
PRIORITY:5
TRANSP:OPAQUE
END:VEVENT
END:VCALENDAR
