BEGIN:VCALENDAR
PRODID:-//http://statistik.d-u-v.org//PHP ultracalendar//EN
VERSION:2.0
METHOD:PUBLISH
BEGIN:VEVENT
DTSTAMP:20260421T143123
CREATED:20260305T140134
UID:1776781883.0.17176000-129634@statistik.d-u-v.org
SUMMARY:Ultra Trace de Guadeloupe - UT100
DESCRIPTION: Ultra Trace de Guadeloupe - UT100\n
  \n
  tanbou.rando[at]outlook.fr
DTSTART:20260221T050000
DTEND:20260222T183000
LOCATION:Pointe-Noire, Guadeloupe\, FRA
URL:https://www.tanbourando.org/
CATEGORIES:Ultramarathon
CONTACT:
CLASS:PUBLIC
PRIORITY:5
TRANSP:OPAQUE
END:VEVENT
END:VCALENDAR
