BEGIN:VCALENDAR
PRODID:-//http://statistik.d-u-v.org//PHP ultracalendar//EN
VERSION:2.0
METHOD:PUBLISH
BEGIN:VEVENT
DTSTAMP:20260420T070817
CREATED:20260305T084919
UID:1776668897.0.06492200-129629@statistik.d-u-v.org
SUMMARY:Macaxeira Backyard Ultra
DESCRIPTION: Macaxeira Backyard Ultra\n
  \n
  kelioesteves[at]hotmail.com
DTSTART:20260221T080000
DTEND:20260222T050000
LOCATION:Porto Velho, Rondonia\, BRA
URL:https://docs.google.com/spreadsheets/d/1kPbHY7ggsJx-y_xVurKXBZH6_43FANcmW7cJ0QUy0gU/edit?pli=1&gid=1220939257#gid=1220939257
CATEGORIES:Ultramarathon
CONTACT:
CLASS:PUBLIC
PRIORITY:5
TRANSP:OPAQUE
END:VEVENT
END:VCALENDAR
