BEGIN:VCALENDAR
PRODID:-//http://statistik.d-u-v.org//PHP ultracalendar//EN
VERSION:2.0
METHOD:PUBLISH
BEGIN:VEVENT
DTSTAMP:20260419T180847
CREATED:20260304T204414
UID:1776622127.0.93171800-129610@statistik.d-u-v.org
SUMMARY:Brave Backyard Ultra
DESCRIPTION: Brave Backyard Ultra\n
  Janderson Rodrigues Afonso\n
  jandersonamalia[at]gmail.com
DTSTART:20260703T080000
DTEND:20260703T235900
LOCATION:Divinopolis, MG\, BRA
URL:https://www.corridasbr.com.br/MG/mostracorrida.asp?escolha=33797
CATEGORIES:Ultramarathon
CONTACT:Janderson Rodrigues Afonso
CLASS:PUBLIC
PRIORITY:5
TRANSP:OPAQUE
END:VEVENT
END:VCALENDAR
