BEGIN:VCALENDAR
PRODID:-//http://statistik.d-u-v.org//PHP ultracalendar//EN
VERSION:2.0
METHOD:PUBLISH
BEGIN:VEVENT
DTSTAMP:20260423T014908
CREATED:20260228T092807
UID:1776908948.0.52924500-129575@statistik.d-u-v.org
SUMMARY:Lindwurm - im Auge des Drachen 114 km
DESCRIPTION: Lindwurm - im Auge des Drachen 114 km\n
  Thorsten Klenke\n
  info[at]quaelixfaktor.de
DTSTART:20260307T060000
DTEND:20260308T080000
LOCATION:Lindlar\, GER
URL:http://quaelixfaktor.de
CATEGORIES:Ultramarathon
CONTACT:Thorsten Klenke
CLASS:PUBLIC
PRIORITY:5
TRANSP:OPAQUE
END:VEVENT
END:VCALENDAR
