BEGIN:VCALENDAR
PRODID:-//http://statistik.d-u-v.org//PHP ultracalendar//EN
VERSION:2.0
METHOD:PUBLISH
BEGIN:VEVENT
DTSTAMP:20260419T173703
CREATED:20260228T012922
UID:1776620223.0.91697600-129512@statistik.d-u-v.org
SUMMARY:Farmdale Trail Run 100 Mile
DESCRIPTION: Farmdale Trail Run 100 Mile\n
  Race Director Jack Cook\n
  jackcookjr[at]att.net
DTSTART:20261010T050000
DTEND:20261011T235900
LOCATION:East Peoria, IL\, USA
URL:https://ultrasignup.com/register.aspx?did=136539
CATEGORIES:Ultramarathon
CONTACT:Race Director Jack Cook
CLASS:PUBLIC
PRIORITY:5
TRANSP:OPAQUE
END:VEVENT
END:VCALENDAR
