BEGIN:VCALENDAR
PRODID:-//http://statistik.d-u-v.org//PHP ultracalendar//EN
VERSION:2.0
METHOD:PUBLISH
BEGIN:VEVENT
DTSTAMP:20260419T161724
CREATED:20260224T001641
UID:1776615444.0.13332500-129420@statistik.d-u-v.org
SUMMARY:Febapple Frozen 50 Mile
DESCRIPTION: Febapple Frozen 50 Mile\n
  Rick McNulty\n
  njtrailseries[at]gmail.com
DTSTART:20270220T070000
DTEND:00000000T235900
LOCATION:Mount Tabor\, USA
URL:https://runsignup.com/Race/NJ/SouthOrange/Febapple
CATEGORIES:Ultramarathon
CONTACT:Rick McNulty
CLASS:PUBLIC
PRIORITY:5
TRANSP:OPAQUE
END:VEVENT
END:VCALENDAR
